BEGIN:VCALENDAR
VERSION:2.0
PRODID:-//Baycounty Islamic Society (BCIS) - ECPv6.8.2.1//NONSGML v1.0//EN
CALSCALE:GREGORIAN
METHOD:PUBLISH
X-ORIGINAL-URL:https://ideas.baycountyislamicsociety.net
X-WR-CALDESC:Events for Baycounty Islamic Society (BCIS)
REFRESH-INTERVAL;VALUE=DURATION:PT1H
X-Robots-Tag:noindex
X-PUBLISHED-TTL:PT1H
BEGIN:VTIMEZONE
TZID:UTC
BEGIN:STANDARD
TZOFFSETFROM:+0000
TZOFFSETTO:+0000
TZNAME:UTC
DTSTART:20290101T000000
END:STANDARD
END:VTIMEZONE
BEGIN:VEVENT
DTSTART;TZID=UTC:20290402T083000
DTEND;TZID=UTC:20290402T083000
DTSTAMP:20260419T181923
CREATED:20241115T164840Z
LAST-MODIFIED:20241115T164840Z
UID:10000229-1869813000-1869813000@ideas.baycountyislamicsociety.net
SUMMARY:Maktabatee Kanzee
DESCRIPTION:My library my treasure
URL:https://ideas.baycountyislamicsociety.net/event/maktabatee-kanzee/2029-04-02/
ATTACH;FMTTYPE=image/png:https://ideas.baycountyislamicsociety.net/wp-content/uploads/2024/11/Green-Watercolor-Books-and-Coffee-Illustration-Phone-Wallpaper.png
END:VEVENT
BEGIN:VEVENT
DTSTART;TZID=UTC:20290409T083000
DTEND;TZID=UTC:20290409T083000
DTSTAMP:20260419T181923
CREATED:20241115T164840Z
LAST-MODIFIED:20241115T164840Z
UID:10000230-1870417800-1870417800@ideas.baycountyislamicsociety.net
SUMMARY:Maktabatee Kanzee
DESCRIPTION:My library my treasure
URL:https://ideas.baycountyislamicsociety.net/event/maktabatee-kanzee/2029-04-09/
ATTACH;FMTTYPE=image/png:https://ideas.baycountyislamicsociety.net/wp-content/uploads/2024/11/Green-Watercolor-Books-and-Coffee-Illustration-Phone-Wallpaper.png
END:VEVENT
BEGIN:VEVENT
DTSTART;TZID=UTC:20290416T083000
DTEND;TZID=UTC:20290416T083000
DTSTAMP:20260419T181923
CREATED:20241115T164840Z
LAST-MODIFIED:20241115T164840Z
UID:10000231-1871022600-1871022600@ideas.baycountyislamicsociety.net
SUMMARY:Maktabatee Kanzee
DESCRIPTION:My library my treasure
URL:https://ideas.baycountyislamicsociety.net/event/maktabatee-kanzee/2029-04-16/
ATTACH;FMTTYPE=image/png:https://ideas.baycountyislamicsociety.net/wp-content/uploads/2024/11/Green-Watercolor-Books-and-Coffee-Illustration-Phone-Wallpaper.png
END:VEVENT
BEGIN:VEVENT
DTSTART;TZID=UTC:20290423T083000
DTEND;TZID=UTC:20290423T083000
DTSTAMP:20260419T181923
CREATED:20241115T164840Z
LAST-MODIFIED:20241115T164840Z
UID:10000232-1871627400-1871627400@ideas.baycountyislamicsociety.net
SUMMARY:Maktabatee Kanzee
DESCRIPTION:My library my treasure
URL:https://ideas.baycountyislamicsociety.net/event/maktabatee-kanzee/2029-04-23/
ATTACH;FMTTYPE=image/png:https://ideas.baycountyislamicsociety.net/wp-content/uploads/2024/11/Green-Watercolor-Books-and-Coffee-Illustration-Phone-Wallpaper.png
END:VEVENT
BEGIN:VEVENT
DTSTART;TZID=UTC:20290430T083000
DTEND;TZID=UTC:20290430T083000
DTSTAMP:20260419T181923
CREATED:20241115T164840Z
LAST-MODIFIED:20241115T164840Z
UID:10000233-1872232200-1872232200@ideas.baycountyislamicsociety.net
SUMMARY:Maktabatee Kanzee
DESCRIPTION:My library my treasure
URL:https://ideas.baycountyislamicsociety.net/event/maktabatee-kanzee/2029-04-30/
ATTACH;FMTTYPE=image/png:https://ideas.baycountyislamicsociety.net/wp-content/uploads/2024/11/Green-Watercolor-Books-and-Coffee-Illustration-Phone-Wallpaper.png
END:VEVENT
END:VCALENDAR